Package: padma Version: 1.16.0 Command: /Library/Frameworks/R.framework/Resources/bin/R CMD check --install=check:padma.install-out.txt --library=/Library/Frameworks/R.framework/Resources/library --no-vignettes --timings padma_1.16.0.tar.gz StartedAt: 2025-01-31 07:44:35 -0500 (Fri, 31 Jan 2025) EndedAt: 2025-01-31 07:53:45 -0500 (Fri, 31 Jan 2025) EllapsedTime: 549.6 seconds RetCode: 0 Status: OK CheckDir: padma.Rcheck Warnings: 0