Package: packFinder Version: 1.18.0 Command: /Library/Frameworks/R.framework/Resources/bin/R CMD INSTALL packFinder StartedAt: 2025-01-30 16:08:46 -0500 (Thu, 30 Jan 2025) EndedAt: 2025-01-30 16:08:53 -0500 (Thu, 30 Jan 2025) EllapsedTime: 6.6 seconds RetCode: 0 Status: OK