Package: packFinder Version: 1.18.0 Command: /Library/Frameworks/R.framework/Resources/bin/R CMD build --keep-empty-dirs --no-resave-data packFinder StartedAt: 2025-01-30 21:38:20 -0500 (Thu, 30 Jan 2025) EndedAt: 2025-01-30 21:39:13 -0500 (Thu, 30 Jan 2025) EllapsedTime: 53.0 seconds RetCode: 0 Status: OK PackageFile: packFinder_1.18.0.tar.gz PackageFileSize: 1.132 MiB