Package: pRoloc Version: 1.46.0 Command: /Library/Frameworks/R.framework/Resources/bin/R CMD build --keep-empty-dirs --no-resave-data pRoloc StartedAt: 2025-01-30 21:57:34 -0500 (Thu, 30 Jan 2025) EndedAt: 2025-01-30 22:07:42 -0500 (Thu, 30 Jan 2025) EllapsedTime: 607.4 seconds RetCode: 0 Status: OK PackageFile: pRoloc_1.46.0.tar.gz PackageFileSize: 10.54 MiB