Package: pRoloc Version: 1.46.0 Command: rm -rf pRoloc.buildbin-libdir && mkdir pRoloc.buildbin-libdir && /Users/biocbuild/BBS/utils/build-universal.sh pRoloc_1.46.0.tar.gz /Library/Frameworks/R.framework/Resources/bin/R pRoloc.buildbin-libdir StartedAt: 2025-02-01 16:16:29 -0500 (Sat, 01 Feb 2025) EndedAt: 2025-02-01 16:18:06 -0500 (Sat, 01 Feb 2025) EllapsedTime: 96.4 seconds RetCode: 0 Status: OK PackageFile: pRoloc_1.46.0.tgz PackageFileSize: 10.31 MiB