Package: oppti Version: 1.20.0 Command: F:\biocbuild\bbs-3.20-bioc\R\bin\R.exe CMD check --no-multiarch --install=check:oppti.install-out.txt --library=F:\biocbuild\bbs-3.20-bioc\R\library --no-vignettes --timings oppti_1.20.0.tar.gz StartedAt: 2025-01-31 04:46:34 -0500 (Fri, 31 Jan 2025) EndedAt: 2025-01-31 04:47:48 -0500 (Fri, 31 Jan 2025) EllapsedTime: 74.1 seconds RetCode: 0 Status: WARNINGS CheckDir: oppti.Rcheck Warnings: 1