Package: oppti Version: 1.20.0 Command: /Library/Frameworks/R.framework/Resources/bin/R CMD INSTALL oppti StartedAt: 2025-01-30 16:08:53 -0500 (Thu, 30 Jan 2025) EndedAt: 2025-01-30 16:09:11 -0500 (Thu, 30 Jan 2025) EllapsedTime: 17.7 seconds RetCode: 0 Status: OK