Package: oposSOM Version: 2.24.0 Command: /Library/Frameworks/R.framework/Resources/bin/R CMD INSTALL oposSOM StartedAt: 2025-01-30 15:50:35 -0500 (Thu, 30 Jan 2025) EndedAt: 2025-01-30 15:51:57 -0500 (Thu, 30 Jan 2025) EllapsedTime: 82.4 seconds RetCode: 0 Status: OK