Package: oposSOM Version: 2.24.0 Command: /Library/Frameworks/R.framework/Resources/bin/R CMD check --install=check:oposSOM.install-out.txt --library=/Library/Frameworks/R.framework/Resources/library --no-vignettes --timings oposSOM_2.24.0.tar.gz StartedAt: 2025-01-31 07:35:49 -0500 (Fri, 31 Jan 2025) EndedAt: 2025-01-31 07:49:38 -0500 (Fri, 31 Jan 2025) EllapsedTime: 828.7 seconds RetCode: 0 Status: WARNINGS CheckDir: oposSOM.Rcheck Warnings: 3