Package: openPrimeR Version: 1.28.0 Command: /Library/Frameworks/R.framework/Resources/bin/R CMD build --keep-empty-dirs --no-resave-data openPrimeR StartedAt: 2025-01-31 04:52:20 -0500 (Fri, 31 Jan 2025) EndedAt: 2025-01-31 04:53:59 -0500 (Fri, 31 Jan 2025) EllapsedTime: 99.1 seconds RetCode: 0 Status: OK PackageFile: openPrimeR_1.28.0.tar.gz PackageFileSize: 2.153 MiB