Package: ontoProc Version: 2.0.0 Command: /home/biocbuild/R/R/bin/R CMD INSTALL ontoProc StartedAt: 2025-01-30 20:43:14 -0000 (Thu, 30 Jan 2025) EndedAt: 2025-01-30 20:43:55 -0000 (Thu, 30 Jan 2025) EllapsedTime: 41.1 seconds RetCode: 0 Status: OK