Package: ontoProc Version: 2.0.0 Command: /home/biocbuild/R/R/bin/R CMD check --install=check:ontoProc.install-out.txt --library=/home/biocbuild/R/R/site-library --no-vignettes --timings ontoProc_2.0.0.tar.gz StartedAt: 2025-01-31 08:51:11 -0000 (Fri, 31 Jan 2025) EndedAt: 2025-01-31 09:10:34 -0000 (Fri, 31 Jan 2025) EllapsedTime: 1163.3 seconds RetCode: 0 Status: OK CheckDir: ontoProc.Rcheck Warnings: 0