Package: ontoProc Version: 2.0.0 Command: /home/biocbuild/R/R/bin/R CMD build --keep-empty-dirs --no-resave-data ontoProc StartedAt: 2025-01-31 01:31:19 -0000 (Fri, 31 Jan 2025) EndedAt: 2025-01-31 01:42:12 -0000 (Fri, 31 Jan 2025) EllapsedTime: 653.1 seconds RetCode: 0 Status: OK PackageFile: ontoProc_2.0.0.tar.gz PackageFileSize: 13.03 MiB