Package: ontoProc Version: 2.0.0 Command: /home/biocbuild/bbs-3.20-bioc/R/bin/R CMD INSTALL ontoProc StartedAt: 2025-01-30 15:34:50 -0500 (Thu, 30 Jan 2025) EndedAt: 2025-01-30 15:35:23 -0500 (Thu, 30 Jan 2025) EllapsedTime: 32.6 seconds RetCode: 0 Status: OK