Package: ontoProc Version: 2.0.0 Command: /Library/Frameworks/R.framework/Resources/bin/R CMD check --install=check:ontoProc.install-out.txt --library=/Library/Frameworks/R.framework/Resources/library --no-vignettes --timings ontoProc_2.0.0.tar.gz StartedAt: 2025-01-31 07:35:00 -0500 (Fri, 31 Jan 2025) EndedAt: 2025-01-31 08:02:25 -0500 (Fri, 31 Jan 2025) EllapsedTime: 1644.5 seconds RetCode: 0 Status: OK CheckDir: ontoProc.Rcheck Warnings: 0