Package: ontoProc Version: 2.0.0 Command: rm -rf ontoProc.buildbin-libdir && mkdir ontoProc.buildbin-libdir && /Users/biocbuild/BBS/utils/build-universal.sh ontoProc_2.0.0.tar.gz /Library/Frameworks/R.framework/Resources/bin/R ontoProc.buildbin-libdir StartedAt: 2025-01-31 13:19:42 -0500 (Fri, 31 Jan 2025) EndedAt: 2025-01-31 13:20:56 -0500 (Fri, 31 Jan 2025) EllapsedTime: 74.0 seconds RetCode: 0 Status: OK PackageFile: ontoProc_2.0.0.tgz PackageFileSize: 10.89 MiB