Package: onlineFDR Version: 2.14.0 Command: /home/biocbuild/R/R/bin/R CMD check --install=check:onlineFDR.install-out.txt --library=/home/biocbuild/R/R/site-library --no-vignettes --timings onlineFDR_2.14.0.tar.gz StartedAt: 2025-01-31 08:50:56 -0000 (Fri, 31 Jan 2025) EndedAt: 2025-01-31 08:51:24 -0000 (Fri, 31 Jan 2025) EllapsedTime: 28.1 seconds RetCode: 0 Status: OK CheckDir: onlineFDR.Rcheck Warnings: 0