Package: oncoscanR Version: 1.8.0 Command: chmod a+r oncoscanR -R && F:\biocbuild\bbs-3.20-bioc\R\bin\R.exe CMD build --keep-empty-dirs --no-resave-data oncoscanR StartedAt: 2025-01-30 20:39:26 -0500 (Thu, 30 Jan 2025) EndedAt: 2025-01-30 20:41:54 -0500 (Thu, 30 Jan 2025) EllapsedTime: 147.9 seconds RetCode: 0 Status: OK PackageFile: oncoscanR_1.8.0.tar.gz PackageFileSize: 990.9 KiB