Package: oncoscanR Version: 1.8.0 Command: /Library/Frameworks/R.framework/Resources/bin/R CMD INSTALL oncoscanR StartedAt: 2025-01-30 15:20:00 -0500 (Thu, 30 Jan 2025) EndedAt: 2025-01-30 15:20:13 -0500 (Thu, 30 Jan 2025) EllapsedTime: 12.9 seconds RetCode: 0 Status: OK