Package: oncoscanR Version: 1.8.0 Command: /Library/Frameworks/R.framework/Resources/bin/R CMD build --keep-empty-dirs --no-resave-data oncoscanR StartedAt: 2025-01-31 04:49:55 -0500 (Fri, 31 Jan 2025) EndedAt: 2025-01-31 04:52:20 -0500 (Fri, 31 Jan 2025) EllapsedTime: 145.7 seconds RetCode: 0 Status: OK PackageFile: oncoscanR_1.8.0.tar.gz PackageFileSize: 990.8 KiB