Package: oncomix Version: 1.28.0 Command: /home/biocbuild/R/R/bin/R CMD INSTALL oncomix StartedAt: 2025-01-30 20:18:24 -0000 (Thu, 30 Jan 2025) EndedAt: 2025-01-30 20:18:52 -0000 (Thu, 30 Jan 2025) EllapsedTime: 27.5 seconds RetCode: 0 Status: OK