Package: oncomix Version: 1.28.0 Command: rm -rf oncomix.buildbin-libdir && mkdir oncomix.buildbin-libdir && F:\biocbuild\bbs-3.20-bioc\R\bin\R.exe CMD INSTALL --build --library=oncomix.buildbin-libdir oncomix_1.28.0.tar.gz StartedAt: 2025-01-31 09:13:04 -0500 (Fri, 31 Jan 2025) EndedAt: 2025-01-31 09:13:35 -0500 (Fri, 31 Jan 2025) EllapsedTime: 31.0 seconds RetCode: 0 Status: OK PackageFile: oncomix_1.28.0.zip PackageFileSize: 1.721 MiB