Package: oncomix Version: 1.28.0 Command: /home/biocbuild/bbs-3.20-bioc/R/bin/R CMD check --install=check:oncomix.install-out.txt --library=/home/biocbuild/bbs-3.20-bioc/R/site-library --timings oncomix_1.28.0.tar.gz StartedAt: 2025-01-31 00:41:37 -0500 (Fri, 31 Jan 2025) EndedAt: 2025-01-31 00:44:29 -0500 (Fri, 31 Jan 2025) EllapsedTime: 172.2 seconds RetCode: 0 Status: OK CheckDir: oncomix.Rcheck Warnings: 0