Package: oncomix Version: 1.28.0 Command: /Library/Frameworks/R.framework/Resources/bin/R CMD build --keep-empty-dirs --no-resave-data oncomix StartedAt: 2025-01-31 04:49:41 -0500 (Fri, 31 Jan 2025) EndedAt: 2025-01-31 04:50:28 -0500 (Fri, 31 Jan 2025) EllapsedTime: 46.6 seconds RetCode: 0 Status: OK PackageFile: oncomix_1.28.0.tar.gz PackageFileSize: 2.435 MiB