Package: ompBAM Version: 1.10.0 Command: /home/biocbuild/R/R/bin/R CMD check --install=check:ompBAM.install-out.txt --library=/home/biocbuild/R/R/site-library --no-vignettes --timings ompBAM_1.10.0.tar.gz StartedAt: 2025-01-31 08:49:43 -0000 (Fri, 31 Jan 2025) EndedAt: 2025-01-31 08:50:29 -0000 (Fri, 31 Jan 2025) EllapsedTime: 45.1 seconds RetCode: 0 Status: OK CheckDir: ompBAM.Rcheck Warnings: 0