Package: ompBAM Version: 1.10.0 Command: rm -rf ompBAM.buildbin-libdir && mkdir ompBAM.buildbin-libdir && /Users/biocbuild/BBS/utils/build-universal.sh ompBAM_1.10.0.tar.gz /Library/Frameworks/R.framework/Resources/bin/R ompBAM.buildbin-libdir StartedAt: 2025-01-31 13:19:21 -0500 (Fri, 31 Jan 2025) EndedAt: 2025-01-31 13:19:28 -0500 (Fri, 31 Jan 2025) EllapsedTime: 6.5 seconds RetCode: 0 Status: OK PackageFile: ompBAM_1.10.0.tgz PackageFileSize: 3.144 MiB