Package: omicplotR Version: 1.26.0 Command: /Library/Frameworks/R.framework/Resources/bin/R CMD build --keep-empty-dirs --no-resave-data omicplotR StartedAt: 2025-01-30 21:31:28 -0500 (Thu, 30 Jan 2025) EndedAt: 2025-01-30 21:32:26 -0500 (Thu, 30 Jan 2025) EllapsedTime: 57.8 seconds RetCode: 0 Status: OK PackageFile: omicplotR_1.26.0.tar.gz PackageFileSize: 1.64 MiB