Package: omicplotR Version: 1.26.0 Command: /Library/Frameworks/R.framework/Resources/bin/R CMD INSTALL omicplotR StartedAt: 2025-01-30 17:35:37 -0500 (Thu, 30 Jan 2025) EndedAt: 2025-01-30 17:36:04 -0500 (Thu, 30 Jan 2025) EllapsedTime: 27.5 seconds RetCode: 0 Status: OK