Package: omicplotR Version: 1.26.0 Command: /Library/Frameworks/R.framework/Resources/bin/R CMD build --keep-empty-dirs --no-resave-data omicplotR StartedAt: 2025-01-31 04:46:23 -0500 (Fri, 31 Jan 2025) EndedAt: 2025-01-31 04:46:56 -0500 (Fri, 31 Jan 2025) EllapsedTime: 32.8 seconds RetCode: 0 Status: OK PackageFile: omicplotR_1.26.0.tar.gz PackageFileSize: 1.641 MiB