Package: omicade4 Version: 1.46.0 Command: /Library/Frameworks/R.framework/Resources/bin/R CMD check --install=check:omicade4.install-out.txt --library=/Library/Frameworks/R.framework/Resources/library --no-vignettes --timings omicade4_1.46.0.tar.gz StartedAt: 2025-02-01 03:36:48 -0500 (Sat, 01 Feb 2025) EndedAt: 2025-02-01 03:39:36 -0500 (Sat, 01 Feb 2025) EllapsedTime: 168.0 seconds RetCode: 0 Status: OK CheckDir: omicade4.Rcheck Warnings: 0