Package: omicade4 Version: 1.46.0 Command: /Library/Frameworks/R.framework/Resources/bin/R CMD build --keep-empty-dirs --no-resave-data omicade4 StartedAt: 2025-01-31 04:45:40 -0500 (Fri, 31 Jan 2025) EndedAt: 2025-01-31 04:46:25 -0500 (Fri, 31 Jan 2025) EllapsedTime: 45.1 seconds RetCode: 0 Status: OK PackageFile: omicade4_1.46.0.tar.gz PackageFileSize: 543.2 KiB