Package: omicRexposome Version: 1.28.0 Command: /home/biocbuild/R/R/bin/R CMD INSTALL omicRexposome StartedAt: 2025-01-30 20:58:30 -0000 (Thu, 30 Jan 2025) EndedAt: 2025-01-30 20:59:27 -0000 (Thu, 30 Jan 2025) EllapsedTime: 56.6 seconds RetCode: 0 Status: OK