Package: omicRexposome Version: 1.28.0 Command: /Library/Frameworks/R.framework/Resources/bin/R CMD INSTALL omicRexposome StartedAt: 2025-01-30 16:30:15 -0500 (Thu, 30 Jan 2025) EndedAt: 2025-01-30 16:31:56 -0500 (Thu, 30 Jan 2025) EllapsedTime: 100.5 seconds RetCode: 0 Status: OK