Package: omicRexposome Version: 1.28.0 Command: /Library/Frameworks/R.framework/Resources/bin/R CMD check --install=check:omicRexposome.install-out.txt --library=/Library/Frameworks/R.framework/Resources/library --no-vignettes --timings omicRexposome_1.28.0.tar.gz StartedAt: 2025-01-31 07:30:49 -0500 (Fri, 31 Jan 2025) EndedAt: 2025-01-31 07:39:35 -0500 (Fri, 31 Jan 2025) EllapsedTime: 525.6 seconds RetCode: 0 Status: OK CheckDir: omicRexposome.Rcheck Warnings: 0