Package: omicRexposome Version: 1.28.0 Command: /Library/Frameworks/R.framework/Resources/bin/R CMD build --keep-empty-dirs --no-resave-data omicRexposome StartedAt: 2025-01-31 04:46:25 -0500 (Fri, 31 Jan 2025) EndedAt: 2025-01-31 04:57:27 -0500 (Fri, 31 Jan 2025) EllapsedTime: 661.4 seconds RetCode: 0 Status: OK PackageFile: omicRexposome_1.28.0.tar.gz PackageFileSize: 2.609 MiB