Package: omXplore Version: 1.0.0 Command: /home/biocbuild/bbs-3.20-bioc/R/bin/R CMD INSTALL omXplore StartedAt: 2025-01-30 16:00:34 -0500 (Thu, 30 Jan 2025) EndedAt: 2025-01-30 16:01:14 -0500 (Thu, 30 Jan 2025) EllapsedTime: 40.2 seconds RetCode: 0 Status: OK