Package: omXplore Version: 1.0.0 Command: /Library/Frameworks/R.framework/Resources/bin/R CMD check --install=check:omXplore.install-out.txt --library=/Library/Frameworks/R.framework/Resources/library --no-vignettes --timings omXplore_1.0.0.tar.gz StartedAt: 2025-02-01 03:42:54 -0500 (Sat, 01 Feb 2025) EndedAt: 2025-02-01 03:48:25 -0500 (Sat, 01 Feb 2025) EllapsedTime: 331.1 seconds RetCode: 0 Status: WARNINGS CheckDir: omXplore.Rcheck Warnings: 2