Package: omXplore Version: 1.0.0 Command: /Library/Frameworks/R.framework/Resources/bin/R CMD build --keep-empty-dirs --no-resave-data omXplore StartedAt: 2025-01-31 04:49:26 -0500 (Fri, 31 Jan 2025) EndedAt: 2025-01-31 04:50:37 -0500 (Fri, 31 Jan 2025) EllapsedTime: 70.2 seconds RetCode: 0 Status: OK PackageFile: omXplore_1.0.0.tar.gz PackageFileSize: 2.004 MiB