Package: oligoClasses Version: 1.68.0 Command: /home/biocbuild/R/R/bin/R CMD INSTALL oligoClasses StartedAt: 2025-01-30 20:19:35 -0000 (Thu, 30 Jan 2025) EndedAt: 2025-01-30 20:20:19 -0000 (Thu, 30 Jan 2025) EllapsedTime: 44.6 seconds RetCode: 0 Status: OK