Package: oligoClasses Version: 1.68.0 Command: rm -rf oligoClasses.buildbin-libdir && mkdir oligoClasses.buildbin-libdir && F:\biocbuild\bbs-3.20-bioc\R\bin\R.exe CMD INSTALL --build --library=oligoClasses.buildbin-libdir oligoClasses_1.68.0.tar.gz StartedAt: 2025-01-31 09:12:09 -0500 (Fri, 31 Jan 2025) EndedAt: 2025-01-31 09:16:34 -0500 (Fri, 31 Jan 2025) EllapsedTime: 264.7 seconds RetCode: 0 Status: OK PackageFile: oligoClasses_1.68.0.zip PackageFileSize: 1.375 MiB