Package: oligoClasses Version: 1.68.0 Command: /Library/Frameworks/R.framework/Resources/bin/R CMD INSTALL oligoClasses StartedAt: 2025-01-30 15:26:56 -0500 (Thu, 30 Jan 2025) EndedAt: 2025-01-30 15:28:19 -0500 (Thu, 30 Jan 2025) EllapsedTime: 83.0 seconds RetCode: 0 Status: OK