Package: oligoClasses Version: 1.68.0 Command: /Library/Frameworks/R.framework/Resources/bin/R CMD build --keep-empty-dirs --no-resave-data oligoClasses StartedAt: 2025-01-31 04:44:56 -0500 (Fri, 31 Jan 2025) EndedAt: 2025-01-31 04:44:58 -0500 (Fri, 31 Jan 2025) EllapsedTime: 2.3 seconds RetCode: 0 Status: OK PackageFile: oligoClasses_1.68.0.tar.gz PackageFileSize: 364.6 KiB