Package: oligo Version: 1.70.0 Command: /home/biocbuild/R/R/bin/R CMD INSTALL oligo StartedAt: 2025-01-30 20:20:19 -0000 (Thu, 30 Jan 2025) EndedAt: 2025-01-30 20:21:03 -0000 (Thu, 30 Jan 2025) EllapsedTime: 43.6 seconds RetCode: 0 Status: OK