Package: oligo Version: 1.70.0 Command: /home/biocbuild/R/R/bin/R CMD build --keep-empty-dirs --no-resave-data oligo StartedAt: 2025-01-31 01:26:37 -0000 (Fri, 31 Jan 2025) EndedAt: 2025-01-31 01:27:38 -0000 (Fri, 31 Jan 2025) EllapsedTime: 61.1 seconds RetCode: 0 Status: OK PackageFile: oligo_1.70.0.tar.gz PackageFileSize: 27.1 MiB