Package: odseq Version: 1.34.0 Command: rm -rf odseq.buildbin-libdir && mkdir odseq.buildbin-libdir && F:\biocbuild\bbs-3.20-bioc\R\bin\R.exe CMD INSTALL --build --library=odseq.buildbin-libdir odseq_1.34.0.tar.gz StartedAt: 2025-01-31 09:12:03 -0500 (Fri, 31 Jan 2025) EndedAt: 2025-01-31 09:12:27 -0500 (Fri, 31 Jan 2025) EllapsedTime: 24.2 seconds RetCode: 0 Status: OK PackageFile: odseq_1.34.0.zip PackageFileSize: 251.6 KiB