Package: nullranges Version: 1.12.0 Command: /home/biocbuild/R/R/bin/R CMD build --keep-empty-dirs --no-resave-data nullranges StartedAt: 2025-01-31 01:25:28 -0000 (Fri, 31 Jan 2025) EndedAt: 2025-01-31 01:29:23 -0000 (Fri, 31 Jan 2025) EllapsedTime: 235.3 seconds RetCode: 0 Status: OK PackageFile: nullranges_1.12.0.tar.gz PackageFileSize: 4.458 MiB