Package: nuCpos Version: 1.24.0 Command: /Library/Frameworks/R.framework/Resources/bin/R CMD check --install=check:nuCpos.install-out.txt --library=/Library/Frameworks/R.framework/Resources/library --no-vignettes --timings nuCpos_1.24.0.tar.gz StartedAt: 2025-02-01 03:25:54 -0500 (Sat, 01 Feb 2025) EndedAt: 2025-02-01 03:26:39 -0500 (Sat, 01 Feb 2025) EllapsedTime: 44.5 seconds RetCode: 0 Status: OK CheckDir: nuCpos.Rcheck Warnings: 0