Package: nuCpos Version: 1.24.0 Command: rm -rf nuCpos.buildbin-libdir && mkdir nuCpos.buildbin-libdir && /Users/biocbuild/BBS/utils/build-universal.sh nuCpos_1.24.0.tar.gz /Library/Frameworks/R.framework/Resources/bin/R nuCpos.buildbin-libdir StartedAt: 2025-02-01 16:03:05 -0500 (Sat, 01 Feb 2025) EndedAt: 2025-02-01 16:03:18 -0500 (Sat, 01 Feb 2025) EllapsedTime: 12.7 seconds RetCode: 0 Status: OK PackageFile: nuCpos_1.24.0.tgz PackageFileSize: 1.712 MiB