Package: normalize450K Version: 1.34.0 Command: F:\biocbuild\bbs-3.20-bioc\R\bin\R.exe CMD check --no-multiarch --install=check:normalize450K.install-out.txt --library=F:\biocbuild\bbs-3.20-bioc\R\library --no-vignettes --timings normalize450K_1.34.0.tar.gz StartedAt: 2025-01-31 04:37:43 -0500 (Fri, 31 Jan 2025) EndedAt: 2025-01-31 04:38:27 -0500 (Fri, 31 Jan 2025) EllapsedTime: 43.8 seconds RetCode: 0 Status: OK CheckDir: normalize450K.Rcheck Warnings: 0