Package: normalize450K Version: 1.34.0 Command: chmod a+r normalize450K -R && F:\biocbuild\bbs-3.20-bioc\R\bin\R.exe CMD build --keep-empty-dirs --no-resave-data normalize450K StartedAt: 2025-01-30 20:35:52 -0500 (Thu, 30 Jan 2025) EndedAt: 2025-01-30 20:36:19 -0500 (Thu, 30 Jan 2025) EllapsedTime: 26.8 seconds RetCode: 0 Status: OK PackageFile: normalize450K_1.34.0.tar.gz PackageFileSize: 3.043 MiB